Package: msPurity Version: 1.25.0 Command: /home/biocbuild/bbs-3.17-bioc/R/bin/R CMD build --keep-empty-dirs --no-resave-data msPurity StartedAt: 2023-04-12 03:24:16 -0400 (Wed, 12 Apr 2023) EndedAt: 2023-04-12 03:33:25 -0400 (Wed, 12 Apr 2023) EllapsedTime: 549.4 seconds RetCode: 0 Status: OK PackageFile: msPurity_1.25.0.tar.gz PackageFileSize: 11.24 MiB