Package: motifbreakR Version: 2.13.8 Command: /home/biocbuild/bbs-3.17-bioc/R/bin/R CMD check --install=check:motifbreakR.install-out.txt --library=/home/biocbuild/bbs-3.17-bioc/R/site-library --timings motifbreakR_2.13.8.tar.gz StartedAt: 2023-04-11 21:44:33 -0400 (Tue, 11 Apr 2023) EndedAt: 2023-04-11 21:57:27 -0400 (Tue, 11 Apr 2023) EllapsedTime: 773.8 seconds RetCode: 1 Status: ERROR CheckDir: motifbreakR.Rcheck Warnings: NA