Package: miloR Version: 1.7.1 Command: /home/biocbuild/bbs-3.17-bioc/R/bin/R CMD check --install=check:miloR.install-out.txt --library=/home/biocbuild/bbs-3.17-bioc/R/site-library --timings miloR_1.7.1.tar.gz StartedAt: 2023-04-12 07:28:51 -0400 (Wed, 12 Apr 2023) EndedAt: 2023-04-12 07:43:12 -0400 (Wed, 12 Apr 2023) EllapsedTime: 861.2 seconds RetCode: 0 Status: OK CheckDir: miloR.Rcheck Warnings: 0