Package: miloR Version: 1.7.1 Command: /home/biocbuild/bbs-3.17-bioc/R/bin/R CMD check --install=check:miloR.install-out.txt --library=/home/biocbuild/bbs-3.17-bioc/R/site-library --timings miloR_1.7.1.tar.gz StartedAt: 2023-04-11 21:34:32 -0400 (Tue, 11 Apr 2023) EndedAt: 2023-04-11 21:48:20 -0400 (Tue, 11 Apr 2023) EllapsedTime: 828.3 seconds RetCode: 0 Status: OK CheckDir: miloR.Rcheck Warnings: 0