git_url: https://git.bioconductor.org/packages/miloR git_branch: devel git_last_commit: fc2d64f git_last_commit_date: 2023-02-09 06:55:10 -0400 (Thu, 09 Feb 2023) Package: miloR Version: 1.7.1 Maintainer: Mike Morgan MaintainerEmail: michael.morgan at abdn.ac.uk