Package: miaViz Version: 1.7.5 Command: /home/biocbuild/bbs-3.17-bioc/R/bin/R CMD build --keep-empty-dirs --no-resave-data miaViz StartedAt: 2023-04-11 17:02:02 -0400 (Tue, 11 Apr 2023) EndedAt: 2023-04-11 17:04:16 -0400 (Tue, 11 Apr 2023) EllapsedTime: 134.2 seconds RetCode: 0 Status: OK PackageFile: miaViz_1.7.5.tar.gz PackageFileSize: 2.381 MiB