Package: miRcomp Version: 1.29.0 Command: /home/biocbuild/bbs-3.17-bioc/R/bin/R CMD INSTALL miRcomp StartedAt: 2023-04-12 01:53:53 -0400 (Wed, 12 Apr 2023) EndedAt: 2023-04-12 01:53:58 -0400 (Wed, 12 Apr 2023) EllapsedTime: 5.3 seconds RetCode: 0 Status: OK