Package: miRNApath Version: 1.59.0 Command: /home/biocbuild/bbs-3.17-bioc/R/bin/R CMD check --install=check:miRNApath.install-out.txt --library=/home/biocbuild/bbs-3.17-bioc/R/site-library --timings miRNApath_1.59.0.tar.gz StartedAt: 2023-04-11 21:38:52 -0400 (Tue, 11 Apr 2023) EndedAt: 2023-04-11 21:39:55 -0400 (Tue, 11 Apr 2023) EllapsedTime: 63.3 seconds RetCode: 0 Status: OK CheckDir: miRNApath.Rcheck Warnings: 0