Package: miRNApath Version: 1.59.0 Command: /home/biocbuild/bbs-3.17-bioc/R/bin/R CMD build --keep-empty-dirs --no-resave-data miRNApath StartedAt: 2023-04-11 17:03:47 -0400 (Tue, 11 Apr 2023) EndedAt: 2023-04-11 17:04:01 -0400 (Tue, 11 Apr 2023) EllapsedTime: 14.0 seconds RetCode: 0 Status: OK PackageFile: miRNApath_1.59.0.tar.gz PackageFileSize: 546.5 KiB