Package: miRLAB Version: 1.29.0 Command: /home/biocbuild/bbs-3.17-bioc/R/bin/R CMD INSTALL miRLAB StartedAt: 2023-04-12 01:55:53 -0400 (Wed, 12 Apr 2023) EndedAt: 2023-04-12 01:56:37 -0400 (Wed, 12 Apr 2023) EllapsedTime: 43.8 seconds RetCode: 0 Status: OK