Package: miQC Version: 1.7.1 Command: /home/biocbuild/bbs-3.17-bioc/R/bin/R CMD check --install=check:miQC.install-out.txt --library=/home/biocbuild/bbs-3.17-bioc/R/site-library --timings miQC_1.7.1.tar.gz StartedAt: 2023-04-11 21:36:39 -0400 (Tue, 11 Apr 2023) EndedAt: 2023-04-11 21:42:14 -0400 (Tue, 11 Apr 2023) EllapsedTime: 335.2 seconds RetCode: 0 Status: OK CheckDir: miQC.Rcheck Warnings: 0