Package: mfa Version: 1.21.0 Command: /home/biocbuild/bbs-3.17-bioc/R/bin/R CMD check --install=check:mfa.install-out.txt --library=/home/biocbuild/bbs-3.17-bioc/R/site-library --timings mfa_1.21.0.tar.gz StartedAt: 2023-04-12 07:25:38 -0400 (Wed, 12 Apr 2023) EndedAt: 2023-04-12 07:27:13 -0400 (Wed, 12 Apr 2023) EllapsedTime: 95.2 seconds RetCode: 0 Status: OK CheckDir: mfa.Rcheck Warnings: 0