Package: mfa Version: 1.21.0 Command: /home/biocbuild/bbs-3.17-bioc/R/bin/R CMD INSTALL mfa StartedAt: 2023-04-11 15:28:31 -0400 (Tue, 11 Apr 2023) EndedAt: 2023-04-11 15:28:50 -0400 (Tue, 11 Apr 2023) EllapsedTime: 19.1 seconds RetCode: 0 Status: OK