Package: messina Version: 1.35.0 Command: /home/biocbuild/bbs-3.17-bioc/R/bin/R CMD INSTALL messina StartedAt: 2023-04-11 15:27:34 -0400 (Tue, 11 Apr 2023) EndedAt: 2023-04-11 15:28:02 -0400 (Tue, 11 Apr 2023) EllapsedTime: 27.8 seconds RetCode: 0 Status: OK