Package: mapscape Version: 1.23.0 Command: /home/biocbuild/bbs-3.17-bioc/R/bin/R CMD check --install=check:mapscape.install-out.txt --library=/home/biocbuild/bbs-3.17-bioc/R/site-library --timings mapscape_1.23.0.tar.gz StartedAt: 2023-04-12 07:12:24 -0400 (Wed, 12 Apr 2023) EndedAt: 2023-04-12 07:12:56 -0400 (Wed, 12 Apr 2023) EllapsedTime: 32.1 seconds RetCode: 0 Status: WARNINGS CheckDir: mapscape.Rcheck Warnings: 1