Package: loci2path Version: 1.19.0 Command: /home/biocbuild/bbs-3.17-bioc/R/bin/R CMD check --install=check:loci2path.install-out.txt --library=/home/biocbuild/bbs-3.17-bioc/R/site-library --timings loci2path_1.19.0.tar.gz StartedAt: 2023-04-12 07:07:17 -0400 (Wed, 12 Apr 2023) EndedAt: 2023-04-12 07:09:14 -0400 (Wed, 12 Apr 2023) EllapsedTime: 117.3 seconds RetCode: 0 Status: OK CheckDir: loci2path.Rcheck Warnings: 0