Package: loci2path Version: 1.19.0 Command: /home/biocbuild/bbs-3.17-bioc/R/bin/R CMD build --keep-empty-dirs --no-resave-data loci2path StartedAt: 2023-04-11 16:53:51 -0400 (Tue, 11 Apr 2023) EndedAt: 2023-04-11 16:54:11 -0400 (Tue, 11 Apr 2023) EllapsedTime: 19.9 seconds RetCode: 0 Status: OK PackageFile: loci2path_1.19.0.tar.gz PackageFileSize: 588.2 KiB