Package: lionessR Version: 1.13.0 Command: /home/biocbuild/bbs-3.17-bioc/R/bin/R CMD check --install=check:lionessR.install-out.txt --library=/home/biocbuild/bbs-3.17-bioc/R/site-library --timings lionessR_1.13.0.tar.gz StartedAt: 2023-04-12 07:06:16 -0400 (Wed, 12 Apr 2023) EndedAt: 2023-04-12 07:07:17 -0400 (Wed, 12 Apr 2023) EllapsedTime: 61.2 seconds RetCode: 0 Status: OK CheckDir: lionessR.Rcheck Warnings: 0