Package: lineagespot Version: 1.3.0 Command: /home/biocbuild/bbs-3.17-bioc/R/bin/R CMD check --install=check:lineagespot.install-out.txt --library=/home/biocbuild/bbs-3.17-bioc/R/site-library --timings lineagespot_1.3.0.tar.gz StartedAt: 2023-04-11 21:12:36 -0400 (Tue, 11 Apr 2023) EndedAt: 2023-04-11 21:19:24 -0400 (Tue, 11 Apr 2023) EllapsedTime: 408.5 seconds RetCode: 0 Status: OK CheckDir: lineagespot.Rcheck Warnings: 0