Package: lineagespot Version: 1.3.0 Command: /home/biocbuild/bbs-3.17-bioc/R/bin/R CMD build --keep-empty-dirs --no-resave-data lineagespot StartedAt: 2023-04-11 16:53:25 -0400 (Tue, 11 Apr 2023) EndedAt: 2023-04-11 16:54:35 -0400 (Tue, 11 Apr 2023) EllapsedTime: 70.1 seconds RetCode: 0 Status: OK PackageFile: lineagespot_1.3.0.tar.gz PackageFileSize: 704.5 KiB