Package: iASeq Version: 1.43.0 Command: /home/biocbuild/bbs-3.17-bioc/R/bin/R CMD INSTALL iASeq StartedAt: 2023-04-11 15:41:03 -0400 (Tue, 11 Apr 2023) EndedAt: 2023-04-11 15:41:06 -0400 (Tue, 11 Apr 2023) EllapsedTime: 2.5 seconds RetCode: 0 Status: OK