Package: hermes Version: 1.3.0 Command: /home/biocbuild/bbs-3.17-bioc/R/bin/R CMD build --keep-empty-dirs --no-resave-data hermes StartedAt: 2023-04-12 03:02:12 -0400 (Wed, 12 Apr 2023) EndedAt: 2023-04-12 03:04:04 -0400 (Wed, 12 Apr 2023) EllapsedTime: 112.5 seconds RetCode: 0 Status: OK PackageFile: hermes_1.3.0.tar.gz PackageFileSize: 3.534 MiB