Package: hermes Version: 1.3.0 Command: /home/biocbuild/bbs-3.17-bioc/R/bin/R CMD check --install=check:hermes.install-out.txt --library=/home/biocbuild/bbs-3.17-bioc/R/site-library --timings hermes_1.3.0.tar.gz StartedAt: 2023-04-11 20:51:41 -0400 (Tue, 11 Apr 2023) EndedAt: 2023-04-11 20:59:49 -0400 (Tue, 11 Apr 2023) EllapsedTime: 487.7 seconds RetCode: 0 Status: OK CheckDir: hermes.Rcheck Warnings: 0