git_url: https://git.bioconductor.org/packages/gtrellis git_branch: devel git_last_commit: 489528b git_last_commit_date: 2023-03-22 09:41:06 -0400 (Wed, 22 Mar 2023) Package: gtrellis Version: 1.31.1 Maintainer: Zuguang Gu MaintainerEmail: z.gu at dkfz.de