Package: genomation Version: 1.31.0 Command: /home/biocbuild/bbs-3.17-bioc/R/bin/R CMD check --install=check:genomation.install-out.txt --library=/home/biocbuild/bbs-3.17-bioc/R/site-library --timings genomation_1.31.0.tar.gz StartedAt: 2023-04-11 20:30:26 -0400 (Tue, 11 Apr 2023) EndedAt: 2023-04-11 20:35:51 -0400 (Tue, 11 Apr 2023) EllapsedTime: 324.9 seconds RetCode: 0 Status: WARNINGS CheckDir: genomation.Rcheck Warnings: 1