Package: geneRxCluster Version: 1.35.0 Command: /home/biocbuild/bbs-3.17-bioc/R/bin/R CMD INSTALL geneRxCluster StartedAt: 2023-04-11 15:05:41 -0400 (Tue, 11 Apr 2023) EndedAt: 2023-04-11 15:05:51 -0400 (Tue, 11 Apr 2023) EllapsedTime: 10.0 seconds RetCode: 0 Status: OK