Package: gcatest Version: 1.29.1 Command: /home/biocbuild/bbs-3.17-bioc/R/bin/R CMD INSTALL gcatest StartedAt: 2023-04-11 15:03:53 -0400 (Tue, 11 Apr 2023) EndedAt: 2023-04-11 15:04:08 -0400 (Tue, 11 Apr 2023) EllapsedTime: 14.2 seconds RetCode: 1 Status: ERROR