Package: gcatest Version: 1.29.1 Command: /home/biocbuild/bbs-3.17-bioc/R/bin/R CMD build --keep-empty-dirs --no-resave-data gcatest StartedAt: 2023-04-11 16:34:15 -0400 (Tue, 11 Apr 2023) EndedAt: 2023-04-11 16:34:17 -0400 (Tue, 11 Apr 2023) EllapsedTime: 1.3 seconds RetCode: 1 Status: ERROR PackageFile: None PackageFileSize: NA