Package: gcapc Version: 1.23.0 Command: /home/biocbuild/bbs-3.17-bioc/R/bin/R CMD INSTALL gcapc StartedAt: 2023-04-12 01:44:38 -0400 (Wed, 12 Apr 2023) EndedAt: 2023-04-12 01:45:36 -0400 (Wed, 12 Apr 2023) EllapsedTime: 58.1 seconds RetCode: 0 Status: OK