Package: flowTrans Version: 1.51.0 Command: /home/biocbuild/bbs-3.17-bioc/R/bin/R CMD check --install=check:flowTrans.install-out.txt --library=/home/biocbuild/bbs-3.17-bioc/R/site-library --timings flowTrans_1.51.0.tar.gz StartedAt: 2023-04-12 06:20:54 -0400 (Wed, 12 Apr 2023) EndedAt: 2023-04-12 06:22:15 -0400 (Wed, 12 Apr 2023) EllapsedTime: 81.3 seconds RetCode: 0 Status: OK CheckDir: flowTrans.Rcheck Warnings: 0