Package: flowTrans Version: 1.51.0 Command: /home/biocbuild/bbs-3.17-bioc/R/bin/R CMD build --keep-empty-dirs --no-resave-data flowTrans StartedAt: 2023-04-11 16:32:45 -0400 (Tue, 11 Apr 2023) EndedAt: 2023-04-11 16:33:05 -0400 (Tue, 11 Apr 2023) EllapsedTime: 19.8 seconds RetCode: 0 Status: OK PackageFile: flowTrans_1.51.0.tar.gz PackageFileSize: 370.5 KiB