Package: flowAI Version: 1.29.0 Command: /home/biocbuild/bbs-3.17-bioc/R/bin/R CMD build --keep-empty-dirs --no-resave-data flowAI StartedAt: 2023-04-12 02:49:59 -0400 (Wed, 12 Apr 2023) EndedAt: 2023-04-12 02:50:14 -0400 (Wed, 12 Apr 2023) EllapsedTime: 15.1 seconds RetCode: 0 Status: OK PackageFile: flowAI_1.29.0.tar.gz PackageFileSize: 3.731 MiB