Package: factR Version: 1.1.0 Command: /home/biocbuild/bbs-3.17-bioc/R/bin/R CMD build --keep-empty-dirs --no-resave-data factR StartedAt: 2023-04-12 02:48:40 -0400 (Wed, 12 Apr 2023) EndedAt: 2023-04-12 02:49:59 -0400 (Wed, 12 Apr 2023) EllapsedTime: 78.7 seconds RetCode: 1 Status: ERROR PackageFile: None PackageFileSize: NA