Package: fabia Version: 2.45.0 Command: /home/biocbuild/bbs-3.17-bioc/R/bin/R CMD INSTALL fabia StartedAt: 2023-04-11 15:02:07 -0400 (Tue, 11 Apr 2023) EndedAt: 2023-04-11 15:02:20 -0400 (Tue, 11 Apr 2023) EllapsedTime: 13.4 seconds RetCode: 0 Status: OK