Package: fabia Version: 2.45.0 Command: /home/biocbuild/bbs-3.17-bioc/R/bin/R CMD check --install=check:fabia.install-out.txt --library=/home/biocbuild/bbs-3.17-bioc/R/site-library --timings fabia_2.45.0.tar.gz StartedAt: 2023-04-11 20:15:09 -0400 (Tue, 11 Apr 2023) EndedAt: 2023-04-11 20:15:53 -0400 (Tue, 11 Apr 2023) EllapsedTime: 43.6 seconds RetCode: 0 Status: WARNINGS CheckDir: fabia.Rcheck Warnings: 2