git_url: https://git.bioconductor.org/packages/drugTargetInteractions git_branch: devel git_last_commit: 7f8fecc git_last_commit_date: 2022-11-01 11:24:22 -0400 (Tue, 01 Nov 2022) Package: drugTargetInteractions Version: 1.7.0 Maintainer: Thomas Girke MaintainerEmail: thomas.girke at ucr.edu