Package: drawProteins Version: 1.19.0 Command: /home/biocbuild/bbs-3.17-bioc/R/bin/R CMD INSTALL drawProteins StartedAt: 2023-04-11 15:08:24 -0400 (Tue, 11 Apr 2023) EndedAt: 2023-04-11 15:08:29 -0400 (Tue, 11 Apr 2023) EllapsedTime: 4.7 seconds RetCode: 0 Status: OK