Package: drawProteins Version: 1.19.0 Command: /home/biocbuild/bbs-3.17-bioc/R/bin/R CMD check --install=check:drawProteins.install-out.txt --library=/home/biocbuild/bbs-3.17-bioc/R/site-library --timings drawProteins_1.19.0.tar.gz StartedAt: 2023-04-11 20:01:02 -0400 (Tue, 11 Apr 2023) EndedAt: 2023-04-11 20:02:00 -0400 (Tue, 11 Apr 2023) EllapsedTime: 58.0 seconds RetCode: 0 Status: OK CheckDir: drawProteins.Rcheck Warnings: 0