git_url: https://git.bioconductor.org/packages/dmrseq git_branch: devel git_last_commit: dc9eb07 git_last_commit_date: 2023-03-29 23:19:02 -0400 (Wed, 29 Mar 2023) Package: dmrseq Version: 1.19.1 Maintainer: Keegan Korthauer MaintainerEmail: keegan at stat.ubc.ca