Package: debCAM Version: 1.17.0 Command: /home/biocbuild/bbs-3.17-bioc/R/bin/R CMD build --keep-empty-dirs --no-resave-data debCAM StartedAt: 2023-04-11 16:17:07 -0400 (Tue, 11 Apr 2023) EndedAt: 2023-04-11 16:22:48 -0400 (Tue, 11 Apr 2023) EllapsedTime: 341.3 seconds RetCode: 0 Status: OK PackageFile: debCAM_1.17.0.tar.gz PackageFileSize: 3.682 MiB