Package: dearseq Version: 1.11.1 Command: /home/biocbuild/bbs-3.17-bioc/R/bin/R CMD check --install=check:dearseq.install-out.txt --library=/home/biocbuild/bbs-3.17-bioc/R/site-library --timings dearseq_1.11.1.tar.gz StartedAt: 2023-04-11 19:43:54 -0400 (Tue, 11 Apr 2023) EndedAt: 2023-04-11 19:48:14 -0400 (Tue, 11 Apr 2023) EllapsedTime: 259.6 seconds RetCode: 0 Status: OK CheckDir: dearseq.Rcheck Warnings: 0