Package: crossmeta Version: 1.25.0 Command: /home/biocbuild/bbs-3.17-bioc/R/bin/R CMD check --install=check:crossmeta.install-out.txt --library=/home/biocbuild/bbs-3.17-bioc/R/site-library --timings crossmeta_1.25.0.tar.gz StartedAt: 2023-04-11 19:37:30 -0400 (Tue, 11 Apr 2023) EndedAt: 2023-04-11 19:40:47 -0400 (Tue, 11 Apr 2023) EllapsedTime: 196.9 seconds RetCode: 1 Status: ERROR CheckDir: crossmeta.Rcheck Warnings: NA