Package: crisprViz Version: 1.1.3 Command: /home/biocbuild/bbs-3.17-bioc/R/bin/R CMD build --keep-empty-dirs --no-resave-data crisprViz StartedAt: 2023-04-11 16:14:20 -0400 (Tue, 11 Apr 2023) EndedAt: 2023-04-11 16:16:35 -0400 (Tue, 11 Apr 2023) EllapsedTime: 135.1 seconds RetCode: 0 Status: OK PackageFile: crisprViz_1.1.3.tar.gz PackageFileSize: 1.038 MiB