Package: coMET Version: 1.31.0 Command: /home/biocbuild/bbs-3.17-bioc/R/bin/R CMD check --install=check:coMET.install-out.txt --library=/home/biocbuild/bbs-3.17-bioc/R/site-library --timings coMET_1.31.0.tar.gz StartedAt: 2023-04-12 05:29:00 -0400 (Wed, 12 Apr 2023) EndedAt: 2023-04-12 05:38:49 -0400 (Wed, 12 Apr 2023) EllapsedTime: 588.4 seconds RetCode: 0 Status: OK CheckDir: coMET.Rcheck Warnings: 0