Package: bugsigdbr Version: 1.5.8 Command: /home/biocbuild/bbs-3.17-bioc/R/bin/R CMD build --keep-empty-dirs --no-resave-data bugsigdbr StartedAt: 2023-04-12 02:21:58 -0400 (Wed, 12 Apr 2023) EndedAt: 2023-04-12 02:22:15 -0400 (Wed, 12 Apr 2023) EllapsedTime: 17.1 seconds RetCode: 0 Status: OK PackageFile: bugsigdbr_1.5.8.tar.gz PackageFileSize: 311.6 KiB