Package: bugsigdbr Version: 1.5.8 Command: /home/biocbuild/bbs-3.17-bioc/R/bin/R CMD build --keep-empty-dirs --no-resave-data bugsigdbr StartedAt: 2023-04-11 15:59:14 -0400 (Tue, 11 Apr 2023) EndedAt: 2023-04-11 15:59:30 -0400 (Tue, 11 Apr 2023) EllapsedTime: 15.6 seconds RetCode: 0 Status: OK PackageFile: bugsigdbr_1.5.8.tar.gz PackageFileSize: 311.6 KiB