Package: biscuiteer Version: 1.13.1 Command: /home/biocbuild/bbs-3.17-bioc/R/bin/R CMD build --keep-empty-dirs --no-resave-data biscuiteer StartedAt: 2023-04-11 15:56:53 -0400 (Tue, 11 Apr 2023) EndedAt: 2023-04-11 15:58:44 -0400 (Tue, 11 Apr 2023) EllapsedTime: 111.1 seconds RetCode: 0 Status: OK PackageFile: biscuiteer_1.13.1.tar.gz PackageFileSize: 4.747 MiB