Package: biodbExpasy Version: 1.3.0 Command: /home/biocbuild/bbs-3.17-bioc/R/bin/R CMD check --install=check:biodbExpasy.install-out.txt --library=/home/biocbuild/bbs-3.17-bioc/R/site-library --timings biodbExpasy_1.3.0.tar.gz StartedAt: 2023-04-12 04:58:05 -0400 (Wed, 12 Apr 2023) EndedAt: 2023-04-12 04:59:23 -0400 (Wed, 12 Apr 2023) EllapsedTime: 77.3 seconds RetCode: 0 Status: OK CheckDir: biodbExpasy.Rcheck Warnings: 0