Package: biodbExpasy Version: 1.3.0 Command: /home/biocbuild/bbs-3.17-bioc/R/bin/R CMD build --keep-empty-dirs --no-resave-data biodbExpasy StartedAt: 2023-04-12 02:18:27 -0400 (Wed, 12 Apr 2023) EndedAt: 2023-04-12 02:18:53 -0400 (Wed, 12 Apr 2023) EllapsedTime: 26.1 seconds RetCode: 0 Status: OK PackageFile: biodbExpasy_1.3.0.tar.gz PackageFileSize: 288.9 KiB