Package: biodb Version: 1.7.0 Command: /home/biocbuild/bbs-3.17-bioc/R/bin/R CMD check --install=check:biodb.install-out.txt --library=/home/biocbuild/bbs-3.17-bioc/R/site-library --timings biodb_1.7.0.tar.gz StartedAt: 2023-04-11 18:52:23 -0400 (Tue, 11 Apr 2023) EndedAt: 2023-04-11 18:57:51 -0400 (Tue, 11 Apr 2023) EllapsedTime: 327.7 seconds RetCode: 0 Status: WARNINGS CheckDir: biodb.Rcheck Warnings: 1